BEGIN:VCALENDAR
VERSION:2.0
PRODID:-//VIBR - ECPv6.15.20//NONSGML v1.0//EN
CALSCALE:GREGORIAN
METHOD:PUBLISH
X-WR-CALNAME:VIBR
X-ORIGINAL-URL:https://vibr.ch
X-WR-CALDESC:Veranstaltungen für VIBR
REFRESH-INTERVAL;VALUE=DURATION:PT1H
X-Robots-Tag:noindex
X-PUBLISHED-TTL:PT1H
BEGIN:VTIMEZONE
TZID:Europe/Zurich
BEGIN:DAYLIGHT
TZOFFSETFROM:+0100
TZOFFSETTO:+0200
TZNAME:CEST
DTSTART:20250330T010000
END:DAYLIGHT
BEGIN:STANDARD
TZOFFSETFROM:+0200
TZOFFSETTO:+0100
TZNAME:CET
DTSTART:20251026T010000
END:STANDARD
BEGIN:DAYLIGHT
TZOFFSETFROM:+0100
TZOFFSETTO:+0200
TZNAME:CEST
DTSTART:20260329T010000
END:DAYLIGHT
BEGIN:STANDARD
TZOFFSETFROM:+0200
TZOFFSETTO:+0100
TZNAME:CET
DTSTART:20261025T010000
END:STANDARD
BEGIN:DAYLIGHT
TZOFFSETFROM:+0100
TZOFFSETTO:+0200
TZNAME:CEST
DTSTART:20270328T010000
END:DAYLIGHT
BEGIN:STANDARD
TZOFFSETFROM:+0200
TZOFFSETTO:+0100
TZNAME:CET
DTSTART:20271031T010000
END:STANDARD
END:VTIMEZONE
BEGIN:VEVENT
DTSTART;TZID=Europe/Zurich:20260606T110000
DTEND;TZID=Europe/Zurich:20260606T163000
DTSTAMP:20260422T182721
CREATED:20260422T125600Z
LAST-MODIFIED:20260422T125648Z
UID:6681-1780743600-1780763400@vibr.ch
SUMMARY:TEPPICHSOUND 2026
DESCRIPTION:TEPPICHSOUND 2026 ganz im Zeichen „Rümelinsplatz mittendrin “ zum sechsten mal.\nAm Samstag\, den 6. Juni 2026\, von 11-16:30 wollen wir wieder die Musik erklingen lassen: hörbar und dennoch unaufdringlich\, vielfältig\, ansprechend\, weckend\, fröhlich. \nRock\, Pop\, Songs-Chansons-Canzoni-Lieder\, Jazz\, Folk\, Country\, klassische Werke … – alles ohne Strom und Verstärkung \nMusik Gruppen\nBroc-Antic | Vencejos / Ilayda Kaya | Lucky the Girl | Chantjsa | Basler Sicherheitsorchester | Surprise Chor | Lunatik Orkestra | Trommelfell | Giige Gugge Züri | Ragatac | Anoumen | Daniela Kouefo | Bastien | Rieser Trio | Los Amarones \nLink zu www.teppichsound.ch
URL:https://vibr.ch/event/teppichsound-2026/
LOCATION:rund um den Rümelinsplatz\, Rümelinsplatz\, Basel\, Schweiz
CATEGORIES:Teppichsound
ATTACH;FMTTYPE=image/jpeg:https://vibr.ch/wp-content/uploads/2026/04/Banner_teppichsound_2026.jpg
END:VEVENT
END:VCALENDAR